BEGIN:VCALENDAR
VERSION:2.0
PRODID:icalendar-ruby
CALSCALE:GREGORIAN
METHOD:PUBLISH
BEGIN:VEVENT
DTSTAMP:20260420T234622Z
UID:46-223637@campuschurch.org
DTSTART:20260503T140000Z
DTEND:20260503T150000Z
CLASS:PUBLIC
CREATED:20260420T083229
DESCRIPTION:Kids (K-5th) are invited to join Christy at 10 AM for a unique 
 Sunday of worshipping God through movement. Check in at the kids check-in 
 station then head to the gallery. Be sure to put tennis shoes on your kidd
 os for this Sunday!
LAST-MODIFIED:20260420T083229
LOCATION:
SUMMARY:Move & Groove Sunday
URL;VALUE=URI:https://www.campuschurch.org/events/move-groove-sunday/2026-0
 5-03
ATTACH;FILENAME=Move--Groove-Sunday_Square-Presentation.jpg;FMTTYPE=image/j
 peg:https://dq5pwpg1q8ru0.cloudfront.net/2026/04/20/12/32/29/95fac8a9-12e5
 -4421-8014-e4338e48ddc9/Move--Groove-Sunday_Square-Presentation.jpg
END:VEVENT
END:VCALENDAR
