BEGIN:VCALENDAR
VERSION:2.0
PRODID:icalendar-ruby
CALSCALE:GREGORIAN
METHOD:PUBLISH
BEGIN:VEVENT
DTSTAMP:20260421T054348Z
UID:47-223638@campuschurch.org
DTSTART:20260503T151500Z
DTEND:20260503T163000Z
CLASS:PUBLIC
CREATED:20260420T083452
DESCRIPTION:We’re excited to bring back Kids in Action\, a missional comm
 unity for elementary-age kids and their families.\nOur hope is simple. We 
 want our kids to grow up loving to serve. Through hands-on experiences\, w
 e want them to discover the joy and purpose of caring for others and lovin
 g their neighbors.\nOur first gathering will be May 3 after church. We’l
 l grab lunch together and then head out to serve. More details are coming 
 soon\, but go ahead and get it on your calendar.\nWe’ll also be serving 
 together through Project Kids Eat this summer on these dates:June 3June 17
 July 1July 22\nYour family is always welcome to serve at PKE on any date\,
  but these are special opportunities for us to serve together as a group.\
 nIf you have ideas for service projects or would like to help plan\, we wo
 uld love to hear from you. If your family is interested in joining\, let u
 s know. We’re looking forward to serving together.
LAST-MODIFIED:20260420T083452
LOCATION:
SUMMARY:Kids in Action Meeting
URL;VALUE=URI:https://www.campuschurch.org/events/kids-in-action-meeting/20
 26-05-03
ATTACH;FILENAME=Kids-In-Action-Logo_Meeting-Slide.jpg;FMTTYPE=image/jpeg:ht
 tps://dq5pwpg1q8ru0.cloudfront.net/2026/04/20/12/34/52/a678cd42-90d4-4c86-
 a288-b7826076a830/Kids-In-Action-Logo_Meeting-Slide.jpg
END:VEVENT
END:VCALENDAR
