BEGIN:VCALENDAR
VERSION:2.0
PRODID:icalendar-ruby
CALSCALE:GREGORIAN
METHOD:PUBLISH
BEGIN:VEVENT
DTSTAMP:20260421T044734Z
UID:48-223639@campuschurch.org
DTSTART:20260510T140000Z
DTEND:20260510T150000Z
CLASS:PUBLIC
CREATED:20260420T084620
DESCRIPTION:Due to unavailable space\, we will be having Family Worship on 
 Sunday\, May 10. This means that all Campus Kids (Kindergarten - 5th grade
 ) will be in the PAC during worship. Nursery &amp\; Preschool age kids wil
 l have their regularly scheduled classes downstairs in the Young Learners 
 area. 
LAST-MODIFIED:20260420T084620
LOCATION:
SUMMARY:Family Worship
URL;VALUE=URI:https://www.campuschurch.org/events/family-worship/2026-05-10
ATTACH;FILENAME=Family-Worship-Graphic_Slide.jpg;FMTTYPE=image/jpeg:https:/
 /dq5pwpg1q8ru0.cloudfront.net/2026/04/20/12/46/20/a8397824-9728-446a-b6e8-
 eee15b239acc/Family-Worship-Graphic_Slide.jpg
END:VEVENT
END:VCALENDAR
